BEGIN:VCALENDAR
VERSION:2.0
PRODID:-//Stepping Stones Crisis Society - ECPv6.15.20//NONSGML v1.0//EN
CALSCALE:GREGORIAN
METHOD:PUBLISH
X-WR-CALNAME:Stepping Stones Crisis Society
X-ORIGINAL-URL:https://steppingstonessociety.ca
X-WR-CALDESC:Events for Stepping Stones Crisis Society
REFRESH-INTERVAL;VALUE=DURATION:PT1H
X-Robots-Tag:noindex
X-PUBLISHED-TTL:PT1H
BEGIN:VTIMEZONE
TZID:America/Edmonton
BEGIN:DAYLIGHT
TZOFFSETFROM:-0700
TZOFFSETTO:-0600
TZNAME:MDT
DTSTART:20240310T090000
END:DAYLIGHT
BEGIN:STANDARD
TZOFFSETFROM:-0600
TZOFFSETTO:-0700
TZNAME:MST
DTSTART:20241103T080000
END:STANDARD
BEGIN:DAYLIGHT
TZOFFSETFROM:-0700
TZOFFSETTO:-0600
TZNAME:MDT
DTSTART:20250309T090000
END:DAYLIGHT
BEGIN:STANDARD
TZOFFSETFROM:-0600
TZOFFSETTO:-0700
TZNAME:MST
DTSTART:20251102T080000
END:STANDARD
BEGIN:DAYLIGHT
TZOFFSETFROM:-0700
TZOFFSETTO:-0600
TZNAME:MDT
DTSTART:20260308T090000
END:DAYLIGHT
BEGIN:STANDARD
TZOFFSETFROM:-0600
TZOFFSETTO:-0700
TZNAME:MST
DTSTART:20261101T080000
END:STANDARD
END:VTIMEZONE
BEGIN:VEVENT
DTSTART;TZID=America/Edmonton:20251129T173000
DTEND;TZID=America/Edmonton:20251129T233000
DTSTAMP:20260421T061050
CREATED:20250514T151524Z
LAST-MODIFIED:20250915T163230Z
UID:10000013-1764437400-1764459000@steppingstonessociety.ca
SUMMARY:Festival of Peace Gala
DESCRIPTION:After nearly a decade\, our signature gala returns in person this November\, and you’re invited. \nOn Saturday\, November 29\, join us for an unforgettable evening at The Festival of Peace. This year’s theme\, a Victorian Yuletide Ball\, will transport you to a world of timeless elegance and holiday splendour. \nExpect a night filled with fine dining\, live entertainment\, and opportunities to celebrate and support the vital work we do in our community. Most of all\, expect a truly magical evening that captures the warmth and spirit of the season. \nWe’re excited to share this special video with you to unveil this year’s theme: \nhttps://steppingstonessociety.ca/wp-content/uploads/2025/05/gala-reveal-embed.mp4\n  \nTickets are now on sale! Secure your spot at the most anticipated event of the year. \n 
URL:https://steppingstonessociety.ca/event/festival-of-peace-gala/
LOCATION:Cold Lake Agricultural Society\, 4608 38 Ave\, Cold Lake
CATEGORIES:Fundraising
ATTACH;FMTTYPE=image/png:https://steppingstonessociety.ca/wp-content/uploads/2025/05/festival-of-peace.png
ORGANIZER;CN="Stepping Stones Crisis Society":MAILTO:info@steppingstonessociety.ca
END:VEVENT
BEGIN:VEVENT
DTSTART;VALUE=DATE:20251004
DTEND;VALUE=DATE:20251006
DTSTAMP:20260421T061050
CREATED:20250910T151724Z
LAST-MODIFIED:20250924T170428Z
UID:10000014-1759536000-1759708799@steppingstonessociety.ca
SUMMARY:Murder Mystery Dinner Theatre: Done to Death
DESCRIPTION:Attention:\nDue to delays at our original venue\, we’ll now be hosting ONE special night only – Saturday\, October 4th at Cold Lake Agricultural Society.\n\n\nFriday tickets will be honored on Saturday\, or refunds are available if you can’t make it.\n\n\nPlease contact us at ev****@*******************ty.ca if you purchased tickets for Friday’s event.\n\n\nThank you for your understanding and support.\n\n\n\nA crime has been committed…and dinner is served! \nStepping Stones Crisis Society is proud to partner with The Parlour Players to present Done to Death\, a dark comedy written and directed by Teresa Pettit. \nDates: October 4 ONLYLocation: Cold Lake Agricultural Society \nThe evening begins at 6:30 p.m. with a dining experience like no other. Chef Renata Duarte will serve a three-course themed meal\, with each course perfectly crafted and delivered to match the play’s three acts. The result is a seamless blend of theatre and cuisine that keeps you immersed in the mystery from start to finish. \nThis fundraiser supports the vital programs and services offered by Stepping Stones Crisis Society\, helping us build better futures for individuals and families in our community. \nTickets are on sale now!
URL:https://steppingstonessociety.ca/event/murder-mystery-dinner-theatre-done-to-death/
LOCATION:Cold Lake Agricultural Society\, 4608 38 Ave\, Cold Lake
CATEGORIES:Fundraising
ATTACH;FMTTYPE=image/png:https://steppingstonessociety.ca/wp-content/uploads/2025/09/murder-mystery-event-image.png
ORGANIZER;CN="Stepping Stones Crisis Society":MAILTO:info@steppingstonessociety.ca
END:VEVENT
BEGIN:VEVENT
DTSTART;TZID=America/Edmonton:20250906T173000
DTEND;TZID=America/Edmonton:20250906T233000
DTSTAMP:20260421T061050
CREATED:20250116T224044Z
LAST-MODIFIED:20250508T194438Z
UID:10000007-1757179800-1757201400@steppingstonessociety.ca
SUMMARY:Grand Opening Soirée
DESCRIPTION:Join us for our Grand Opening Soirée\, a special night to celebrate the opening of our new building. Starting at 5:30 PM with cocktails\, and 6:30 PM for dinner\, with entertainment to follow\, at the Cold Lake Agricultural Society\, 4608 38 Ave.\, Cold Lake. \nTickets available online through Zeffy. \nIf you have any questions please contact our Community Engagement and Events Manager\, April at 780-201-4937.
URL:https://steppingstonessociety.ca/event/grand-opening-soiree/
LOCATION:Cold Lake Agricultural Society\, 4608 38 Ave\, Cold Lake
ATTACH;FMTTYPE=image/jpeg:https://steppingstonessociety.ca/wp-content/uploads/2025/01/soiree-invite-digital.jpg
ORGANIZER;CN="Stepping Stones Crisis Society":MAILTO:info@steppingstonessociety.ca
END:VEVENT
END:VCALENDAR