BEGIN:VCALENDAR
VERSION:2.0
PRODID:-//Stepping Stones Crisis Society - ECPv6.15.20//NONSGML v1.0//EN
CALSCALE:GREGORIAN
METHOD:PUBLISH
X-WR-CALNAME:Stepping Stones Crisis Society
X-ORIGINAL-URL:https://steppingstonessociety.ca
X-WR-CALDESC:Events for Stepping Stones Crisis Society
REFRESH-INTERVAL;VALUE=DURATION:PT1H
X-Robots-Tag:noindex
X-PUBLISHED-TTL:PT1H
BEGIN:VTIMEZONE
TZID:America/Edmonton
BEGIN:DAYLIGHT
TZOFFSETFROM:-0700
TZOFFSETTO:-0600
TZNAME:MDT
DTSTART:20240310T090000
END:DAYLIGHT
BEGIN:STANDARD
TZOFFSETFROM:-0600
TZOFFSETTO:-0700
TZNAME:MST
DTSTART:20241103T080000
END:STANDARD
BEGIN:DAYLIGHT
TZOFFSETFROM:-0700
TZOFFSETTO:-0600
TZNAME:MDT
DTSTART:20250309T090000
END:DAYLIGHT
BEGIN:STANDARD
TZOFFSETFROM:-0600
TZOFFSETTO:-0700
TZNAME:MST
DTSTART:20251102T080000
END:STANDARD
BEGIN:DAYLIGHT
TZOFFSETFROM:-0700
TZOFFSETTO:-0600
TZNAME:MDT
DTSTART:20260308T090000
END:DAYLIGHT
BEGIN:STANDARD
TZOFFSETFROM:-0600
TZOFFSETTO:-0700
TZNAME:MST
DTSTART:20261101T080000
END:STANDARD
END:VTIMEZONE
BEGIN:VEVENT
DTSTART;TZID=America/Edmonton:20250320T170000
DTEND;TZID=America/Edmonton:20250320T210000
DTSTAMP:20260425T044410
CREATED:20250304T205116Z
LAST-MODIFIED:20250304T205116Z
UID:10000010-1742490000-1742504400@steppingstonessociety.ca
SUMMARY:Bingo Night
DESCRIPTION:Want to volunteer for us? Bingo Nights are a great way to help us fundraise. No experience necessary and a free meal is provided. Must be 18 or older.If interested please contact April at: 780-201-4937 or ev****@*******************ty.ca.
URL:https://steppingstonessociety.ca/event/bingo-night/
LOCATION:AB
ATTACH;FMTTYPE=image/png:https://steppingstonessociety.ca/wp-content/uploads/2025/03/Bingo-Night-Facebook-Post-1.png
END:VEVENT
END:VCALENDAR