BEGIN:VCALENDAR
VERSION:2.0
PRODID:-//Stepping Stones Crisis Society - ECPv6.15.20//NONSGML v1.0//EN
CALSCALE:GREGORIAN
METHOD:PUBLISH
X-WR-CALNAME:Stepping Stones Crisis Society
X-ORIGINAL-URL:https://steppingstonessociety.ca
X-WR-CALDESC:Events for Stepping Stones Crisis Society
REFRESH-INTERVAL;VALUE=DURATION:PT1H
X-Robots-Tag:noindex
X-PUBLISHED-TTL:PT1H
BEGIN:VTIMEZONE
TZID:America/Edmonton
BEGIN:DAYLIGHT
TZOFFSETFROM:-0700
TZOFFSETTO:-0600
TZNAME:MDT
DTSTART:20240310T090000
END:DAYLIGHT
BEGIN:STANDARD
TZOFFSETFROM:-0600
TZOFFSETTO:-0700
TZNAME:MST
DTSTART:20241103T080000
END:STANDARD
BEGIN:DAYLIGHT
TZOFFSETFROM:-0700
TZOFFSETTO:-0600
TZNAME:MDT
DTSTART:20250309T090000
END:DAYLIGHT
BEGIN:STANDARD
TZOFFSETFROM:-0600
TZOFFSETTO:-0700
TZNAME:MST
DTSTART:20251102T080000
END:STANDARD
BEGIN:DAYLIGHT
TZOFFSETFROM:-0700
TZOFFSETTO:-0600
TZNAME:MDT
DTSTART:20260308T090000
END:DAYLIGHT
BEGIN:STANDARD
TZOFFSETFROM:-0600
TZOFFSETTO:-0700
TZNAME:MST
DTSTART:20261101T080000
END:STANDARD
END:VTIMEZONE
BEGIN:VEVENT
DTSTART;TZID=America/Edmonton:20250301T170000
DTEND;TZID=America/Edmonton:20250301T210000
DTSTAMP:20260423T075806
CREATED:20250213T222558Z
LAST-MODIFIED:20250213T222558Z
UID:10000008-1740848400-1740862800@steppingstonessociety.ca
SUMMARY:Bingo Night March 1
DESCRIPTION:We need volunteers for Bingo Nights! No experience necessary\, free meal provided. Must be 18 or older. If you would like to volunteer\, please contact April at 780-201-4937 or ev****@*******************ty.ca
URL:https://steppingstonessociety.ca/event/bingo-night-march-1/
LOCATION:AB
END:VEVENT
END:VCALENDAR